BEGIN:VCALENDAR
VERSION:2.0
PRODID:-//hacksw/handcal//NONSGML v1.0//EN
BEGIN:VEVENT
SUMMARY:US PONT Ste MAXENCE - USCB
UID:b99c90cd-5d04-4eb5-bf83-8f7e78598052
DTSTART:20260404T150000Z
DTEND:20260404T164500Z
LOCATION:Localisation   
CATEGORIES:Sportif
STATUS:
URL;VALUE=URI:https://www.uscb.info/evenements/2026/04/04/us-pont-ste-maxence-uscb-2435150
END:VEVENT
END:VCALENDAR
