BEGIN:VCALENDAR
VERSION:2.0
PRODID:-//hacksw/handcal//NONSGML v1.0//EN
BEGIN:VEVENT
SUMMARY:AFC CREIL - USCB
UID:0c7d5ce4-7bc0-47f2-a00c-fb9916c1f39e
DTSTART:20260406T083000Z
DTEND:20260406T101500Z
LOCATION:Localisation   
CATEGORIES:Sportif
STATUS:
URL;VALUE=URI:https://www.uscb.info/evenements/2026/04/06/afc-creil-uscb-2438665
END:VEVENT
END:VCALENDAR
