BEGIN:VCALENDAR
VERSION:2.0
PRODID:-//hacksw/handcal//NONSGML v1.0//EN
BEGIN:VEVENT
SUMMARY:USCB - FC CHAMBLY
UID:d37e0db1-36f0-4d64-a48c-cc33d8683ae0
DTSTART:20260406T123000Z
DTEND:20260406T141500Z
LOCATION:Localisation   
CATEGORIES:Sportif
STATUS:
URL;VALUE=URI:https://www.uscb.info/evenements/2026/04/06/uscb-fc-chambly-2438667
END:VEVENT
END:VCALENDAR
