BEGIN:VCALENDAR
VERSION:2.0
PRODID:-//hacksw/handcal//NONSGML v1.0//EN
BEGIN:VEVENT
SUMMARY:AFC COMPIEGNE - USCB
UID:e9fd5f73-fc5b-413b-a06b-1a7d7f337e4f
DTSTART:20260411T150000Z
DTEND:20260411T164500Z
LOCATION:Localisation   
CATEGORIES:Sportif
STATUS:
URL;VALUE=URI:https://www.uscb.info/evenements/2026/04/11/afc-compiegne-uscb-2267593
END:VEVENT
END:VCALENDAR
