BEGIN:VCALENDAR
VERSION:2.0
PRODID:-//hacksw/handcal//NONSGML v1.0//EN
BEGIN:VEVENT
SUMMARY:USCB 3 - US THOUROTTE LONGUEIL
UID:9accc380-a3e6-4a37-9a07-0bcada1899bc
DTSTART:20260412T130000Z
DTEND:20260412T144500Z
LOCATION:Localisation   
CATEGORIES:Sportif
STATUS:
URL;VALUE=URI:https://www.uscb.info/evenements/2026/04/12/uscb-3-us-thourotte-longueil-2263758
END:VEVENT
END:VCALENDAR
