BEGIN:VCALENDAR
VERSION:2.0
PRODID:-//hacksw/handcal//NONSGML v1.0//EN
BEGIN:VEVENT
SUMMARY:Ent. PONT / MARGNY - USCB
UID:8370ebf5-21b9-496a-a939-1b14e33c877d
DTSTART:20260425T130000Z
DTEND:20260425T144500Z
LOCATION:Localisation   
CATEGORIES:Sportif
STATUS:
URL;VALUE=URI:https://www.uscb.info/evenements/2026/04/25/ent-pont-margny-uscb-2362686
END:VEVENT
END:VCALENDAR
