BEGIN:VCALENDAR
VERSION:2.0
PRODID:-//hacksw/handcal//NONSGML v1.0//EN
BEGIN:VEVENT
SUMMARY:CA VENETTE - USCB 2
UID:6e2465e6-80e9-449c-a53e-76b64b8ea43f
DTSTART:20260503T083000Z
DTEND:20260503T101500Z
LOCATION:Localisation   
CATEGORIES:Sportif
STATUS:
URL;VALUE=URI:https://www.uscb.info/evenements/2026/05/03/ca-venette-uscb-2-2441773
END:VEVENT
END:VCALENDAR
