BEGIN:VCALENDAR
VERSION:2.0
PRODID:-//hacksw/handcal//NONSGML v1.0//EN
BEGIN:VEVENT
SUMMARY:JS THIEUX - USCB 2
UID:6fae0f68-63f6-4e48-b268-b47d1292d640
DTSTART:20260503T130000Z
DTEND:20260503T144500Z
LOCATION:Localisation   
CATEGORIES:Sportif
STATUS:
URL;VALUE=URI:https://www.uscb.info/evenements/2026/05/03/js-thieux-uscb-2-2263776
END:VEVENT
END:VCALENDAR
