BEGIN:VCALENDAR
VERSION:2.0
PRODID:-//hacksw/handcal//NONSGML v1.0//EN
BEGIN:VEVENT
SUMMARY:USCB - FC AMIENS PORTUGAIS
UID:91f662fd-48a5-41a3-b52c-8ca076c1d0ea
DTSTART:20260513T140000Z
DTEND:20260513T154500Z
LOCATION:Localisation   
CATEGORIES:Sportif
STATUS:
URL;VALUE=URI:https://www.uscb.info/evenements/2026/05/13/uscb-fc-amiens-portugais-2267504
END:VEVENT
END:VCALENDAR
