BEGIN:VCALENDAR
VERSION:2.0
PRODID:-//hacksw/handcal//NONSGML v1.0//EN
BEGIN:VEVENT
SUMMARY:USCB - Ent. NOGENT LAIGNEVILLE
UID:6d2810d6-0195-41e7-a65a-c585fbebbb7a
DTSTART:20260514T140000Z
DTEND:20260514T154500Z
LOCATION:Localisation   
CATEGORIES:Sportif
STATUS:
URL;VALUE=URI:https://www.uscb.info/evenements/2026/05/14/uscb-ent-nogent-laigneville-2417287
END:VEVENT
END:VCALENDAR
