BEGIN:VCALENDAR
VERSION:2.0
PRODID:-//hacksw/handcal//NONSGML v1.0//EN
BEGIN:VEVENT
SUMMARY:USCB - US CHANTILLY
UID:1ba674d5-b75e-48f0-b4dd-812a93ef8007
DTSTART:20260530T110000Z
DTEND:20260530T120000Z
LOCATION:Localisation   
CATEGORIES:Sportif
STATUS:
URL;VALUE=URI:https://www.uscb.info/evenements/2026/05/30/uscb-us-chantilly-2436559
END:VEVENT
END:VCALENDAR
